BEGIN:VCALENDAR
VERSION:2.0
PRODID:Oceanside, CA Calendar Creator
METHOD:PUBLISH
BEGIN:VEVENT
DTSTAMP:20240613T155420
DTSTART:20240810T183000
DTEND:20240810T220000
SUMMARY:Dive-In Movie - "The Little Mermaid" (2023)
DESCRIPTION:<p>Join us on a warm summer night for a movie under the stars! Enjoy recreation swim from 6:30-7:45pm.</p><p>"The Little Mermaid" (2023) will begin around 7:40pm.</p><p>Tickets are $7 per person, and kids ages 3 and under are free. Pick up your wristbands in advance at William Wagner Aquatic Center to avoid lines. Tickets are available for purchase <a href="http://apm.activecommunities.com/oceansiderec/Activity_Search/14145" target="_blank">here</a>.</p><p>Online presale ends at 5 p.m. on August 9th. You will be able to purchase wristbands at the event if the event is not sold out. Save time and avoid lines by picking up event wristbands in advance. Wristbands will be available for pick up starting the week before the event and are only available at William Wagner Aquatic Center during regular business hours.</p><p>All sales are final; no refunds. Wristbands that are picked up in advance that are lost or not brought to the event will not be replaced.<br>Note: "Personal Flotation Devices" that are not Coast Guard approved are not allowed. However, inflatables such as tubes will be permitted for this event only, but will not be provided. All are subject to staff approval.</p>
X-ALT-DESC;FMTTYPE=text/html:<p>Join us on a warm summer night for a movie under the stars! Enjoy recreation swim from 6:30-7:45pm.</p><p>"The Little Mermaid" (2023) will begin around 7:40pm.</p><p>Tickets are $7 per person, and kids ages 3 and under are free. Pick up your wristbands in advance at William Wagner Aquatic Center to avoid lines. Tickets are available for purchase <a href="http://apm.activecommunities.com/oceansiderec/Activity_Search/14145" target="_blank">here</a>.</p><p>Online presale ends at 5 p.m. on August 9th. You will be able to purchase wristbands at the event if the event is not sold out. Save time and avoid lines by picking up event wristbands in advance. Wristbands will be available for pick up starting the week before the event and are only available at William Wagner Aquatic Center during regular business hours.</p><p>All sales are final; no refunds. Wristbands that are picked up in advance that are lost or not brought to the event will not be replaced.<br>Note: "Personal Flotation Devices" that are not Coast Guard approved are not allowed. However, inflatables such as tubes will be permitted for this event only, but will not be provided. All are subject to staff approval.</p>
LOCATION:William A. Wagner Aquatic Center\, 3425 Hero Drive Oceanside\, California 92056
CLASS:PUBLIC
END:VEVENT
END:VCALENDAR
