BEGIN:VCALENDAR
VERSION:2.0
PRODID:Oceanside, CA Calendar Creator
METHOD:PUBLISH
BEGIN:VEVENT
DTSTAMP:20240702T131213
DTSTART:20240715T173000
DTEND:20240715T203000
SUMMARY:Parks and Recreation Month - Free Pickleball Night
DESCRIPTION:Join us for a night of FREE pickleball at Junior Seau Beach Community Center! This event will be held on July 15th from 5:30-8:30PM as part of our celebration of Pars and Recreation Month.
X-ALT-DESC;FMTTYPE=text/html:Join us for a night of FREE pickleball at Junior Seau Beach Community Center! This event will be held on July 15th from 5:30-8:30PM as part of our celebration of Pars and Recreation Month.
LOCATION:Junior Seau Beach Community Center\, 300 North Strand Oceanside\, California 92054
CLASS:PUBLIC
END:VEVENT
END:VCALENDAR
