BEGIN:VCALENDAR
VERSION:2.0
PRODID:Oceanside, CA Calendar Creator
METHOD:PUBLISH
BEGIN:VEVENT
DTSTAMP:20250317T073449
DTSTART:20250328T153000
DTEND:20250328T170000
SUMMARY:Coffee in the Park
DESCRIPTION:<p>Come share your thoughts and a cup of coffee with our director, Manuel Gonzalez, at the Cesar Chavez Park on Friday, March 28, from 3:30pm - 5pm. Feel free to give us a call at 760-435-5041 if you would like to share over the phone. Your voice counts in creating our future parks, programs, and events!</p>
X-ALT-DESC;FMTTYPE=text/html:<p>Come share your thoughts and a cup of coffee with our director, Manuel Gonzalez, at the Cesar Chavez Park on Friday, March 28, from 3:30pm - 5pm. Feel free to give us a call at 760-435-5041 if you would like to share over the phone. Your voice counts in creating our future parks, programs, and events!</p>
LOCATION:Cesar Chavez Park\, 1309 Division St Oceanside\, California 92054
CLASS:PUBLIC
END:VEVENT
END:VCALENDAR
