BEGIN:VCALENDAR
VERSION:2.0
PRODID:Oceanside, CA Calendar Creator
METHOD:PUBLISH
BEGIN:VEVENT
DTSTAMP:20260420T145842
DTSTART:20260502T183000
DTEND:20260502T213000
SUMMARY:Movie at the Pier- Star Wars!
DESCRIPTION:<p data-start="65" data-end="113"><strong data-start="65" data-end="111">Movie at the Pier: Star Wars Weekend!</strong></p><p data-start="115" data-end="336">Join us for a galaxy of fun at our <em data-start="150" data-end="161">Star Wars</em>-themed Movie at the Pier on <strong data-start="190" data-end="235">Saturday, May 2, from 6:30 PM to 9:30 PM</strong>! Enjoy an evening filled with crafts and fun activities as we get ready for a movie under the stars.</p><p data-start="338" data-end="572">Come dressed as your favorite <em data-start="368" data-end="379">Star Wars</em> character—Jedi, Sith, Wookiee, or droid—and be part of the fun! Keep an eye out for special guest appearances before the show—you won’t want to miss your chance for photos and meet-and-greets.</p><p data-start="574" data-end="727">The movie will begin at sunset (approximately <strong data-start="620" data-end="631">7:30 PM</strong>), so be sure to arrive early to grab a good spot. Blankets and low-back chairs are recommended.</p><br>
X-ALT-DESC;FMTTYPE=text/html:<p data-start="65" data-end="113"><strong data-start="65" data-end="111">Movie at the Pier: Star Wars Weekend!</strong></p><p data-start="115" data-end="336">Join us for a galaxy of fun at our <em data-start="150" data-end="161">Star Wars</em>-themed Movie at the Pier on <strong data-start="190" data-end="235">Saturday, May 2, from 6:30 PM to 9:30 PM</strong>! Enjoy an evening filled with crafts and fun activities as we get ready for a movie under the stars.</p><p data-start="338" data-end="572">Come dressed as your favorite <em data-start="368" data-end="379">Star Wars</em> character—Jedi, Sith, Wookiee, or droid—and be part of the fun! Keep an eye out for special guest appearances before the show—you won’t want to miss your chance for photos and meet-and-greets.</p><p data-start="574" data-end="727">The movie will begin at sunset (approximately <strong data-start="620" data-end="631">7:30 PM</strong>), so be sure to arrive early to grab a good spot. Blankets and low-back chairs are recommended.</p><br>
LOCATION:Pier / Pier Amphitheater\, 301 The Strand N Oceanside\, California 92054
CLASS:PUBLIC
END:VEVENT
END:VCALENDAR
