BEGIN:VCALENDAR
VERSION:2.0
PRODID:Oceanside, CA Calendar Creator
METHOD:PUBLISH
BEGIN:VEVENT
DTSTAMP:20250701T112848
DTSTART:20250705T090000
DTEND:20250705T120000
SUMMARY:Mission 55: Semper Seau Legacy Camp
DESCRIPTION:<div x14z9mp="" xat24cr="" x1lziwak="" x1vvkbs="" x126k92a"=""><div dir="auto">Join us for the Mission 55 Semper Seau Legacy Camp! </div><p dir="auto">&nbsp;</p><p dir="auto"><span style="font-size: 1.25rem;">Open to boys and girls from Kindergarten through 17 years old, this high-energy football camp is all about building skills, confidence, and community. Athletes will receive top-tier coaching focused on fundamentals, position-specific techniques, and competitive drills — all in a supportive and high-energy environment.</span></p></div><div xat24cr="" x1lziwak="" x1vvkbs="" xtlvy1s="" x126k92a"=""><div dir="auto">This camp is proudly hosted in honor of Oceanside’s own, the legendary Junior Seau — a symbol of heart, <a tabindex="-1" xdj266r="" x14z9mp="" xat24cr="" x1lziwak="" xexx8yu="" xyri2b="" x18d9i69="" x1c1uobl="" x1hl2dhg="" x16tdsg8="" x1vvkbs"=""></a>hustle, and hometown pride. We’re carrying forward his legacy by inspiring the next generation to play with passion, integrity, and love for the game.</div></div><div xat24cr="" x1lziwak="" x1vvkbs="" xtlvy1s="" x126k92a"=""><div dir="auto">&nbsp;</div><div dir="auto">Participant Limit:</div><div dir="auto">The camp is capped at 350 participants to ensure a focused and high-quality experience. Early registration is highly encouraged. <a href="https://anc.apm.activecommunities.com/oceansiderec/activity/search/detail/15805?onlineSiteId=0&amp;locale=en-US&amp;from_original_cui=true" target="_blank">Register here</a></div></div><div xat24cr="" x1lziwak="" x1vvkbs="" xtlvy1s="" x126k92a"=""><div dir="auto">&nbsp;</div><div dir="auto">For questions or more details, reach out to:</div><div dir="auto"> Jonte Berry – berry.jonte@gmail.com |  760-576-1109</div><div dir="auto"> Patt – 702-289-3500</div></div>
X-ALT-DESC;FMTTYPE=text/html:<div x14z9mp="" xat24cr="" x1lziwak="" x1vvkbs="" x126k92a"=""><div dir="auto">Join us for the Mission 55 Semper Seau Legacy Camp! </div><p dir="auto">&nbsp;</p><p dir="auto"><span style="font-size: 1.25rem;">Open to boys and girls from Kindergarten through 17 years old, this high-energy football camp is all about building skills, confidence, and community. Athletes will receive top-tier coaching focused on fundamentals, position-specific techniques, and competitive drills — all in a supportive and high-energy environment.</span></p></div><div xat24cr="" x1lziwak="" x1vvkbs="" xtlvy1s="" x126k92a"=""><div dir="auto">This camp is proudly hosted in honor of Oceanside’s own, the legendary Junior Seau — a symbol of heart, <a tabindex="-1" xdj266r="" x14z9mp="" xat24cr="" x1lziwak="" xexx8yu="" xyri2b="" x18d9i69="" x1c1uobl="" x1hl2dhg="" x16tdsg8="" x1vvkbs"=""></a>hustle, and hometown pride. We’re carrying forward his legacy by inspiring the next generation to play with passion, integrity, and love for the game.</div></div><div xat24cr="" x1lziwak="" x1vvkbs="" xtlvy1s="" x126k92a"=""><div dir="auto">&nbsp;</div><div dir="auto">Participant Limit:</div><div dir="auto">The camp is capped at 350 participants to ensure a focused and high-quality experience. Early registration is highly encouraged. <a href="https://anc.apm.activecommunities.com/oceansiderec/activity/search/detail/15805?onlineSiteId=0&amp;locale=en-US&amp;from_original_cui=true" target="_blank">Register here</a></div></div><div xat24cr="" x1lziwak="" x1vvkbs="" xtlvy1s="" x126k92a"=""><div dir="auto">&nbsp;</div><div dir="auto">For questions or more details, reach out to:</div><div dir="auto"> Jonte Berry – berry.jonte@gmail.com |  760-576-1109</div><div dir="auto"> Patt – 702-289-3500</div></div>
LOCATION:Oceanside High School\, 1 Pirates Cove Oceanside\, California 92054
CLASS:PUBLIC
END:VEVENT
END:VCALENDAR
