BEGIN:VCALENDAR
VERSION:2.0
PRODID:Oceanside, CA Calendar Creator
METHOD:PUBLISH
BEGIN:VEVENT
DTSTAMP:20250908T152233
DTSTART:20250915T000000
DTEND:20250915T235900
SUMMARY:Vote for Free Concerts in the Park
DESCRIPTION:<p>HELP US BRING FREE, LIVE music to Oceanside! 30 seconds of your time can help Oceanside get 8 additional free concerts in the park for the next 3 years. With the support of the Library and Parks and Recreation Departments, the Oceanside Cultural Arts Foundation CAF has advanced to Phase 2 for a Levitt BLOC (Building Layers of Community) Grant. This is a Public Voting Phase, and we need your vote to qualify for up to $96K over 3 years to produce a series of FREE, LIVE concerts in O’side parks.</p><p>WE NEED TO PROVE HUGE COMMUNITY SUPPORT. It’s going to be a big factor in the decision making process at the Levitt Foundation.</p><p>3 WAYS TO VOTE:</p><p>1. <a href="https://oceanside2.prod-as.govaccess.org/home/showpublisheddocument/17145/638929301512700000" target="_blank">Scan the QR</a>. 877-409-5525 appears and you’ll see OCEANSIDE in CAPS as the message. Just HIT SEND!</p><p>2. Text 877-409-5525. Message OCEANSIDE in CAPS. HIT SEND!</p><p>3. Vote online at <a href="https://levitt.org/" target="_blank">levitt.org</a></p><p>Voting ENDS on September 15 at 5pm PT.</p><p>Please help us make the Levitt BLOC Oceanside Music Series come true!</p>
X-ALT-DESC;FMTTYPE=text/html:<p>HELP US BRING FREE, LIVE music to Oceanside! 30 seconds of your time can help Oceanside get 8 additional free concerts in the park for the next 3 years. With the support of the Library and Parks and Recreation Departments, the Oceanside Cultural Arts Foundation CAF has advanced to Phase 2 for a Levitt BLOC (Building Layers of Community) Grant. This is a Public Voting Phase, and we need your vote to qualify for up to $96K over 3 years to produce a series of FREE, LIVE concerts in O’side parks.</p><p>WE NEED TO PROVE HUGE COMMUNITY SUPPORT. It’s going to be a big factor in the decision making process at the Levitt Foundation.</p><p>3 WAYS TO VOTE:</p><p>1. <a href="https://oceanside2.prod-as.govaccess.org/home/showpublisheddocument/17145/638929301512700000" target="_blank">Scan the QR</a>. 877-409-5525 appears and you’ll see OCEANSIDE in CAPS as the message. Just HIT SEND!</p><p>2. Text 877-409-5525. Message OCEANSIDE in CAPS. HIT SEND!</p><p>3. Vote online at <a href="https://levitt.org/" target="_blank">levitt.org</a></p><p>Voting ENDS on September 15 at 5pm PT.</p><p>Please help us make the Levitt BLOC Oceanside Music Series come true!</p>
LOCATION:www.levitt.org\, 
CLASS:PUBLIC
END:VEVENT
END:VCALENDAR
