BEGIN:VCALENDAR
VERSION:2.0
PRODID:Oceanside, CA Calendar Creator
METHOD:PUBLISH
BEGIN:VEVENT
DTSTAMP:20260209T111446
DTSTART:20260525T000000
DTEND:20260525T235900
SUMMARY:Closure: Memorial Day
DESCRIPTION:Brooks Street Swim Center will be closed on Monday, May 25th&nbsp;for Memorial Day. The William A. Wagner Aquatic Center will have holiday hours from 10:00am - 2:00pm.  Brooks Street Swim Passes will be accepted at the Wagner Aquatic Center for the holiday.
X-ALT-DESC;FMTTYPE=text/html:Brooks Street Swim Center will be closed on Monday, May 25th&nbsp;for Memorial Day. The William A. Wagner Aquatic Center will have holiday hours from 10:00am - 2:00pm.  Brooks Street Swim Passes will be accepted at the Wagner Aquatic Center for the holiday.
LOCATION:Brooks Street Swim Center\, 130 Brooks Street Oceanside\, California 92054
CLASS:PUBLIC
END:VEVENT
END:VCALENDAR
