BEGIN:VCALENDAR
VERSION:2.0
PRODID:Oceanside, CA Calendar Creator
METHOD:PUBLISH
BEGIN:VEVENT
DTSTAMP:20260209T111456
DTSTART:20260525T100000
DTEND:20260525T140000
SUMMARY:Memorial Day Holiday Hours
DESCRIPTION:William A. Wagner Aquatic Center will have holiday hours from 10:00am - 2:00pm on Monday, May 25th for Memorial Day. Brooks Street Swim Center will be closed. Brooks Street Swim Passes will be accepted at the Wagner Aquatic Center for the holiday.&nbsp;
X-ALT-DESC;FMTTYPE=text/html:William A. Wagner Aquatic Center will have holiday hours from 10:00am - 2:00pm on Monday, May 25th for Memorial Day. Brooks Street Swim Center will be closed. Brooks Street Swim Passes will be accepted at the Wagner Aquatic Center for the holiday.&nbsp;
LOCATION:William A. Wagner Aquatic Center\, 3425 Hero Drive Oceanside\, California 92056
CLASS:PUBLIC
END:VEVENT
END:VCALENDAR
