BEGIN:VCALENDAR
VERSION:2.0
PRODID:Oceanside, CA Calendar Creator
METHOD:PUBLISH
BEGIN:VEVENT
DTSTAMP:20260212T164918
DTSTART:20260425T110000
DTEND:20260425T150000
SUMMARY:Green Oceanside Earth Day event at Joe Balderrama Park!
DESCRIPTION:Join the Green Oceanside team for the annual family-friendly Earth Day event at Joe Balderrama Park, alongside the City’s Neighborhood Services&nbsp;Día Del Niño&nbsp;event. Participants can enjoy eco-friendly games, music, and receive Green Oceanside reusable cups for our onsite water trailer.&nbsp;Visitors of all ages can also&nbsp;participate&nbsp;in&nbsp;a neighborhood cleanup event to help keep Oceanside beautiful!&nbsp;For more information visit&nbsp;the&nbsp;<a scxw89107752="" bcx8"="" href="https://www.ci.oceanside.ca.us/government/water-utilities/environmental-services-programs/green-oceanside/earth-month" target="_blank" rel="noreferrer noopener">Green Oceanside Earth Day page</a>.&nbsp;&nbsp;
X-ALT-DESC;FMTTYPE=text/html:Join the Green Oceanside team for the annual family-friendly Earth Day event at Joe Balderrama Park, alongside the City’s Neighborhood Services&nbsp;Día Del Niño&nbsp;event. Participants can enjoy eco-friendly games, music, and receive Green Oceanside reusable cups for our onsite water trailer.&nbsp;Visitors of all ages can also&nbsp;participate&nbsp;in&nbsp;a neighborhood cleanup event to help keep Oceanside beautiful!&nbsp;For more information visit&nbsp;the&nbsp;<a scxw89107752="" bcx8"="" href="https://www.ci.oceanside.ca.us/government/water-utilities/environmental-services-programs/green-oceanside/earth-month" target="_blank" rel="noreferrer noopener">Green Oceanside Earth Day page</a>.&nbsp;&nbsp;
LOCATION:Joe Balderrama Recreation Center\, 709 San Diego Street Oceanside\, California 92058
CLASS:PUBLIC
END:VEVENT
END:VCALENDAR
