BEGIN:VCALENDAR
VERSION:2.0
PRODID:Oceanside, CA Calendar Creator
METHOD:PUBLISH
BEGIN:VEVENT
DTSTAMP:20260216T073154
DTSTART:20260324T160000
DTEND:20260324T173000
SUMMARY:Coffee in the Park
DESCRIPTION:<p>Come share your thoughts and a cup of coffee with our director, Manuel Gonzalez, at Libby Lake Park on Tuesday, March 24th, from 4:00pm - 5:30pm. Feel free to give us a call at 760-435-5041 or email recadmin@oceansideca.org. Your voice counts in creating our future parks, programs, and events!</p>
X-ALT-DESC;FMTTYPE=text/html:<p>Come share your thoughts and a cup of coffee with our director, Manuel Gonzalez, at Libby Lake Park on Tuesday, March 24th, from 4:00pm - 5:30pm. Feel free to give us a call at 760-435-5041 or email recadmin@oceansideca.org. Your voice counts in creating our future parks, programs, and events!</p>
LOCATION:Libby Lake Park\, 424 Calle Montecito Oceanside\, California 92057
CLASS:PUBLIC
END:VEVENT
END:VCALENDAR
