BEGIN:VCALENDAR
VERSION:2.0
PRODID:Oceanside, CA Calendar Creator
METHOD:PUBLISH
BEGIN:VEVENT
DTSTAMP:20260401T150412
DTSTART:20260404T100000
DTEND:20260404T113000
SUMMARY:Eastside Easter Egg Hunt
DESCRIPTION:Bring your own Easter baskets and get ready to hunt for the golden eggs with special prizes inside! For information in English and Spanish, click <a href="https://oceanside2.prod-as.govaccess.org/home/showpublisheddocument/18071/639106523885370000" target="_blank" rel="noopener">here.</a>
X-ALT-DESC;FMTTYPE=text/html:Bring your own Easter baskets and get ready to hunt for the golden eggs with special prizes inside! For information in English and Spanish, click <a href="https://oceanside2.prod-as.govaccess.org/home/showpublisheddocument/18071/639106523885370000" target="_blank" rel="noopener">here.</a>
LOCATION:Joe Balderrama Recreation Center\, 709 San Diego Street Oceanside\, California 92058
CLASS:PUBLIC
END:VEVENT
END:VCALENDAR
