BEGIN:VCALENDAR
VERSION:2.0
PRODID:Oceanside, CA Calendar Creator
METHOD:PUBLISH
BEGIN:VEVENT
DTSTAMP:20260407T111100
DTSTART:20260604T180000
DTEND:20260604T203000
SUMMARY:Manufactured Home Fair Practices Commission
DESCRIPTION:
X-ALT-DESC;FMTTYPE=text/html:
LOCATION:Council Chambers - City Hall\, 300 N COAST HWY OCEANSIDE\, California 92054
CLASS:PUBLIC
END:VEVENT
END:VCALENDAR
