BEGIN:VCALENDAR
VERSION:2.0
PRODID:Oceanside, CA Calendar Creator
METHOD:PUBLISH
BEGIN:VEVENT
DTSTAMP:20260408T091717
DTSTART:20260430T160000
DTEND:20260430T190000
SUMMARY:Dia Del Niño Crown Heights
DESCRIPTION:Food, music, raffle prizes, games &amp; activities, free kid's haircuts, information booths, and more! For more information, click <a href="https://oceanside2.prod-as.govaccess.org/home/showpublisheddocument/18087/639112358599130000" target="_blank" rel="noopener">here.</a>
X-ALT-DESC;FMTTYPE=text/html:Food, music, raffle prizes, games &amp; activities, free kid's haircuts, information booths, and more! For more information, click <a href="https://oceanside2.prod-as.govaccess.org/home/showpublisheddocument/18087/639112358599130000" target="_blank" rel="noopener">here.</a>
LOCATION:Cesar Chavez Park\, 1309 Division St Oceanside\, California 92054
CLASS:PUBLIC
END:VEVENT
END:VCALENDAR
