BEGIN:VCALENDAR
VERSION:2.0
PRODID:Oceanside, CA Calendar Creator
METHOD:PUBLISH
BEGIN:VEVENT
DTSTAMP:20260408T160500
DTSTART:20260728T181500
DTEND:20260728T203000
SUMMARY:Housing Commission
DESCRIPTION:
X-ALT-DESC;FMTTYPE=text/html:
LOCATION:Council Chambers - City Hall\, 300 N COAST HWY OCEANSIDE\, California 92054
CLASS:PUBLIC
END:VEVENT
END:VCALENDAR
