BEGIN:VCALENDAR
VERSION:2.0
PRODID:Oceanside, CA Calendar Creator
METHOD:PUBLISH
BEGIN:VEVENT
DTSTAMP:20260420T073554
DTSTART:20260615T170000
DTEND:20260615T185900
SUMMARY:Harbor & Beaches Advisory Committee Meeting
DESCRIPTION:
X-ALT-DESC;FMTTYPE=text/html:
LOCATION:Council Chambers - City Hall\, 300 N COAST HWY OCEANSIDE\, California 92054
CLASS:PUBLIC
END:VEVENT
END:VCALENDAR
