BEGIN:VCALENDAR
VERSION:2.0
PRODID:Oceanside, CA Calendar Creator
METHOD:PUBLISH
BEGIN:VEVENT
DTSTAMP:20260420T151559
DTSTART:20260514T163000
DTEND:20260514T180000
SUMMARY:Coffee in the Park
DESCRIPTION:<p>Come share your thoughts and a cup of coffee with our director, Manuel Gonzalez, at Crown Heights Park on Thursday, May 14th, from 4:30pm - 6:00pm. Feel free to give us a call at 760-435-5041 or email recadmin@oceansideca.org. Your voice counts in creating our future parks, programs, and events!</p>
X-ALT-DESC;FMTTYPE=text/html:<p>Come share your thoughts and a cup of coffee with our director, Manuel Gonzalez, at Crown Heights Park on Thursday, May 14th, from 4:30pm - 6:00pm. Feel free to give us a call at 760-435-5041 or email recadmin@oceansideca.org. Your voice counts in creating our future parks, programs, and events!</p>
LOCATION:Crown Heights Park\, 1309 Division St Oceanside\, California 92054
CLASS:PUBLIC
END:VEVENT
END:VCALENDAR
