BEGIN:VCALENDAR
VERSION:2.0
PRODID:Oceanside, CA Calendar Creator
METHOD:PUBLISH
BEGIN:VEVENT
DTSTAMP:20230331T104358
DTSTART:20230420T170000
DTEND:20230420T210000
SUMMARY:Earth Day Fun Zone at the Sunset Market
DESCRIPTION:Enjoy family friendly&nbsp;games, and crafts that will center on being better stewards of our planet by conserving water, protecting our watershed, and recycling and composting right. Be sure to invite your friends and family and stop by the Green Oceanside booth at the market to get involved!
X-ALT-DESC;FMTTYPE=text/html:Enjoy family friendly&nbsp;games, and crafts that will center on being better stewards of our planet by conserving water, protecting our watershed, and recycling and composting right. Be sure to invite your friends and family and stop by the Green Oceanside booth at the market to get involved!
LOCATION:
CLASS:PUBLIC
END:VEVENT
END:VCALENDAR
