BEGIN:VCALENDAR
VERSION:2.0
PRODID:Oceanside, CA Calendar Creator
METHOD:PUBLISH
BEGIN:VEVENT
DTSTAMP:20230417T081032
DTSTART:20230506T120000
DTEND:20230506T161500
SUMMARY:Heritage Park Day
DESCRIPTION:<p>&nbsp;REGISTRATION REQUIRED - Click <a href="http://apm.activecommunities.com/oceansiderec/Activity_Search/12359" target="_blank">here</a> to Register!&nbsp;</p><p>Have a day of FREE old-fashioned fun at Heritage Park with Oceanside Parks and Recreation! We are hosting a carnival day with free games, ice cream sundaes, crafts, and more family-fun activities! Kids 12 and under can play all the games and win a prize!<br><br>Due to limited capacity at Heritage Park, ALL members attending this event must be registered. Each attendee will receive a ticket for a free ice cream sundae and/or popcorn bag!<br><br>Please make sure to register your entire party for the correct time slot:<br>12:00pm - 2:00pm<br>2:15pm - 4:15pm<br><br>Parking is limited, please consider alternate modes of transportation. Parking is located at 314 Capricho Way, Oceanside, CA 92057.<br><br>No dogs allowed.</p>
X-ALT-DESC;FMTTYPE=text/html:<p>&nbsp;REGISTRATION REQUIRED - Click <a href="http://apm.activecommunities.com/oceansiderec/Activity_Search/12359" target="_blank">here</a> to Register!&nbsp;</p><p>Have a day of FREE old-fashioned fun at Heritage Park with Oceanside Parks and Recreation! We are hosting a carnival day with free games, ice cream sundaes, crafts, and more family-fun activities! Kids 12 and under can play all the games and win a prize!<br><br>Due to limited capacity at Heritage Park, ALL members attending this event must be registered. Each attendee will receive a ticket for a free ice cream sundae and/or popcorn bag!<br><br>Please make sure to register your entire party for the correct time slot:<br>12:00pm - 2:00pm<br>2:15pm - 4:15pm<br><br>Parking is limited, please consider alternate modes of transportation. Parking is located at 314 Capricho Way, Oceanside, CA 92057.<br><br>No dogs allowed.</p>
LOCATION:Heritage Park & Museum\, 220 Peyri Road Oceanside\, California 92057
CLASS:PUBLIC
END:VEVENT
END:VCALENDAR
