BEGIN:VCALENDAR
VERSION:2.0
PRODID:Oceanside, CA Calendar Creator
METHOD:PUBLISH
BEGIN:VEVENT
DTSTAMP:20230519T111859
DTSTART:20230624T194500
DTEND:20230624T213000
SUMMARY:Movie in the Park - "Puss in Boots: The Last Wish"
DESCRIPTION:<p>Join us on June 24th for a heartwarming FREE movie under the stars! We will be screening the movie “Puss in Boots: The Last Wish” at John Landes Park!</p><p><span style="font-size: 1.25rem;">Starting at 7:00pm, enjoy some family-friendly crafts and games in the park. The movie will begin around 8pm. We suggest arriving by 7:45pm.</span></p><p>Parking will be limited, so we encourage carpooling, walking, biking, or taking transit to the park. Show us your bike, transit ticket, or your GPS walking route for a free prize (while supplies last). Just stop by our booth to redeem your free item.&nbsp;</p>
X-ALT-DESC;FMTTYPE=text/html:<p>Join us on June 24th for a heartwarming FREE movie under the stars! We will be screening the movie “Puss in Boots: The Last Wish” at John Landes Park!</p><p><span style="font-size: 1.25rem;">Starting at 7:00pm, enjoy some family-friendly crafts and games in the park. The movie will begin around 8pm. We suggest arriving by 7:45pm.</span></p><p>Parking will be limited, so we encourage carpooling, walking, biking, or taking transit to the park. Show us your bike, transit ticket, or your GPS walking route for a free prize (while supplies last). Just stop by our booth to redeem your free item.&nbsp;</p>
LOCATION:John Landes Park\, 2855 Cedar Road Oceanside\, California 92056
CLASS:PUBLIC
END:VEVENT
END:VCALENDAR
