BEGIN:VCALENDAR
VERSION:2.0
PRODID:Oceanside, CA Calendar Creator
METHOD:PUBLISH
BEGIN:VEVENT
DTSTAMP:20230612T143756
DTSTART:20230804T170000
DTEND:20230804T200000
SUMMARY:Concert in the Park
DESCRIPTION:<p>Join us for a FREE Concert in the Park featuring Savor: A Santana Tribute! 🎶🎸 The concert will take place at Mance Buchanon Park on Friday, August 4th.</p><p>5:00pm – 6:00pm - Salsa &amp; Bachata Lesson<br>From 5pm to 6pm, Vedanza Dance Studio will be offering a lively salsa and bachata lesson! Whether you're a seasoned dancer or a complete beginner, this is a fantastic opportunity to learn some new moves and get into the groove!</p><p>6:00pm – 8:00pm - Headliner: Savor: A Santana Tribute<br>Savor: A Santana Tribute is a band that captures the essence and energy of the legendary Carlos Santana! Their incredible performance will transport you to the heyday of Santana's iconic sound, with captivating renditions of hits like "Smooth," "Oye Como Va," and many more. Get ready to be mesmerized by their outstanding musicianship and infectious rhythms!</p><p>Remember to bring your beach chairs and blankets! Food trucks and family-friendly activities will be available at the event.<br>Please note: canopies and large umbrellas are not allowed.</p><p>Mance Buchanon Park is located at 425 College Blvd, Oceanside, CA 92057.</p><p>Parking is limited! We encourage carpooling, biking, taking transit, or walking. Bikers, walkers, and transit takers can stop by our booth for a free gift.</p>
X-ALT-DESC;FMTTYPE=text/html:<p>Join us for a FREE Concert in the Park featuring Savor: A Santana Tribute! 🎶🎸 The concert will take place at Mance Buchanon Park on Friday, August 4th.</p><p>5:00pm – 6:00pm - Salsa &amp; Bachata Lesson<br>From 5pm to 6pm, Vedanza Dance Studio will be offering a lively salsa and bachata lesson! Whether you're a seasoned dancer or a complete beginner, this is a fantastic opportunity to learn some new moves and get into the groove!</p><p>6:00pm – 8:00pm - Headliner: Savor: A Santana Tribute<br>Savor: A Santana Tribute is a band that captures the essence and energy of the legendary Carlos Santana! Their incredible performance will transport you to the heyday of Santana's iconic sound, with captivating renditions of hits like "Smooth," "Oye Como Va," and many more. Get ready to be mesmerized by their outstanding musicianship and infectious rhythms!</p><p>Remember to bring your beach chairs and blankets! Food trucks and family-friendly activities will be available at the event.<br>Please note: canopies and large umbrellas are not allowed.</p><p>Mance Buchanon Park is located at 425 College Blvd, Oceanside, CA 92057.</p><p>Parking is limited! We encourage carpooling, biking, taking transit, or walking. Bikers, walkers, and transit takers can stop by our booth for a free gift.</p>
LOCATION:Mance Buchanon Park\, 425 College Blvd Oceanside\, California 92057
CLASS:PUBLIC
END:VEVENT
END:VCALENDAR
