BEGIN:VCALENDAR
VERSION:2.0
PRODID:Oceanside, CA Calendar Creator
METHOD:PUBLISH
BEGIN:VEVENT
DTSTAMP:20230908T144453
DTSTART:20230916T180000
DTEND:20230916T210000
SUMMARY:Movie in the Park - "Super Mario Bros."
DESCRIPTION:<p>Join us for our last Movie in the Park for Summer 2023 at Buddy Todd Park! Around 6pm, we will have family-friendly activities and fun crafts for children to enjoy. Around 7pm, we will be screening the movie “Super Mario Bros.”! This fun event will be held on Saturday, September 16th.</p><p>Parking will be limited, so we encourage carpooling, walking, biking, or taking transit to the park. Show us your bike, transit ticket, or your GPS walking route for a free prize (while supplies last). Just stop by our booth to redeem your free item.</p>
X-ALT-DESC;FMTTYPE=text/html:<p>Join us for our last Movie in the Park for Summer 2023 at Buddy Todd Park! Around 6pm, we will have family-friendly activities and fun crafts for children to enjoy. Around 7pm, we will be screening the movie “Super Mario Bros.”! This fun event will be held on Saturday, September 16th.</p><p>Parking will be limited, so we encourage carpooling, walking, biking, or taking transit to the park. Show us your bike, transit ticket, or your GPS walking route for a free prize (while supplies last). Just stop by our booth to redeem your free item.</p>
LOCATION:Buddy Todd Park\, 2800 Mesa Dr Oceanside\, California 92054
CLASS:PUBLIC
END:VEVENT
END:VCALENDAR
