BEGIN:VCALENDAR
VERSION:2.0
PRODID:Oceanside, CA Calendar Creator
METHOD:PUBLISH
BEGIN:VEVENT
DTSTAMP:20230919T153728
DTSTART:20231014T170000
DTEND:20231014T210000
SUMMARY:Heritage Park Halloween Movie Night
DESCRIPTION:Join us for a family-friendly evening of Halloween fun on October 14th! 👻🎃🍬 Children can trick-or-treat around the historic buildings of Heritage Park before we show a movie on the lawn. We will also have mini pumpkin decorating and crafts for the little ones! We will show "The Addams Family" (2019) around 6:30pm.<br>Doors open at 5pm, registration is required.<br>Admission: $7 per person and children 3 and under are free!<br>Register <a href="http://apm.activecommunities.com/oceansiderec/Activity_Search/12822" target="_blank">Here.</a><br>Children and adults are welcome to dress up for this event.
X-ALT-DESC;FMTTYPE=text/html:Join us for a family-friendly evening of Halloween fun on October 14th! 👻🎃🍬 Children can trick-or-treat around the historic buildings of Heritage Park before we show a movie on the lawn. We will also have mini pumpkin decorating and crafts for the little ones! We will show "The Addams Family" (2019) around 6:30pm.<br>Doors open at 5pm, registration is required.<br>Admission: $7 per person and children 3 and under are free!<br>Register <a href="http://apm.activecommunities.com/oceansiderec/Activity_Search/12822" target="_blank">Here.</a><br>Children and adults are welcome to dress up for this event.
LOCATION:Heritage Park & Museum\, 220 Peyri Road Oceanside\, California 92057
CLASS:PUBLIC
END:VEVENT
END:VCALENDAR
